BEGIN:VCALENDAR
VERSION:2.0
PRODID:-//https://waltontrust.org///NONSGML kigkonsult.se iCalcreator 2.10.15//
METHOD:PUBLISH
BEGIN:VEVENT
UID:20260425T013534CEST-5853068txC@https://waltontrust.org/
DTSTAMP:20260424T233534Z
DESCRIPTION:WEDNESDAY 17 MAY | 7.30pm\nRHAPSODY IN BLUE:SOUTHBANK SINFONIA 
 15TH BIRTHDAY CONCERT\nROYAL FESTIVAL HALL\, SOUTHBANK CENTRE\nMASON BATES
  Mothership\nGERSHWIN Rhapsody in Blue\nWALTON Belshazzar&rsquo\;s Feast\n
 Simon Over conductor\nBenjamin Grosvenor piano\nParliament Choir\, St Mich
 ael&rsquo\;s Singers and singers from\nBar Choral Society\, The Bach Choir
 \, London Concert Choir and St Alban&rsquo\;s Bach Choir\nMusic packed wit
 h innovation\, that melds genres and defies borders\, provides everything 
 needed for an unforgettable birthday party. To celebrate 15 years of South
 bank Sinfonia\, we take to the iconic stage of the Royal Festival Hall wit
 h a super-sized orchestra of 92 musicians - the biggest in our history - b
 ringing together current and former players for a concert of boundary-brea
 king music.\nBritain&rsquo\;s star pianist Benjamin Grosvenor brings his s
 upercharged virtuosity to Gershwin&rsquo\;s Jazz Age Rhapsody in Blue\, wh
 ile massed choral forces join the orchestra for Walton&rsquo\;s lavish fea
 st: an exhilarating fusion of extrovert symphonic tradition and swing-infu
 sed\, punchy rhythms. In Mothership\, an electro-orchestral spaceship welc
 omes improvising soloists to &lsquo\;dock&rsquo\; with it.\nTickets &pound
 \;12 - &pound\;36 on sale now\nBook online via southbanksinfonia.co.uk\, o
 r call the Southbank Centre Box Office on 020 7960 4200 https://waltontrus
 t.org/en/archive-events/event/40-belshazzars-feast-at-the-royal-festival-h
 all-london
DTSTART;VALUE=DATE:20170517
LOCATION:ROYAL FESTIVAL HALL\, SOUTHBANK CENTRE (Belvedere Rd\, Lambeth\, L
 ondon SE1 8XX\, Regno Unito)
SUMMARY:Belshazzar's Feast at the Royal Festival Hall\, London
URL:https://waltontrust.org/en/archive-events/event/40-belshazzars-feast-at
 -the-royal-festival-hall-london
END:VEVENT
BEGIN:VEVENT
UID:20260425T013534CEST-5862RoXD7u@https://waltontrust.org/
DTSTAMP:20260424T233534Z
DESCRIPTION:Lovers and Dreamers\nMarch 18\, 2017 at 7:30 PM\,&nbsp\; with G
 uest Conductor Brian Stone\nStravinsky &mdash\; Pulcinella Suite\nWalton &
 mdash\; Viola Concerto with Mei-Chun Chen\, TSO Principal Viola\nStrauss &
 mdash\; Treasure Waltz\nTheofanidis &mdash\; Dreamtime Ancestors (Kansas P
 remiere)\nBring a date to our romantic Lovers and Dreamers concert. We sta
 rt with the suite from Stravinsky&rsquo\;s Pulcinella\, a charming ballet 
 based on characters from Italy&rsquo\;s Comedia dell&rsquo\;arte. Full of 
 romantic intrigue and foibles\, it ends happily in the marriage of the lov
 ers. Also hear TSO Principal Viola Mei-Chun Chen play William Walton&rsquo
 \;s rarely heard\, but beautiful Viola Concerto and the Kansas premiere of
  Christopher Theofanidis&rsquo\; Dreamtime Ancestors &mdash\; all under th
 e direction of guest conductor Brian Stone. https://waltontrust.org/en/arc
 hive-events/event/200-walton-viola-concerto-topeka-kansas-usa-on-saturday-
 march-18-2017
DTSTART;VALUE=DATE:20170319
LOCATION:White Concert Hall\, Topeka (519 SW 37th\, Topeka\, KS 66611\, Sta
 ti Uniti)
SUMMARY:Walton Viola Concerto\,  Topeka\, Kansas\, USA\, on Saturday March 
 18\, 2017.
URL:https://waltontrust.org/en/archive-events/event/200-walton-viola-concer
 to-topeka-kansas-usa-on-saturday-march-18-2017
END:VEVENT
BEGIN:VEVENT
UID:20260425T013534CEST-58723P8JAh@https://waltontrust.org/
DTSTAMP:20260424T233534Z
DESCRIPTION:Sabato 22 aprile ore 17.30\, nell'aula magna della Sapienza\,&n
 bsp\; l' Istituzione Universitaria dei Concerti (IUC) di Roma presenta&nbs
 p\; Fa&ccedil\;ade (musica di W. Walton e testi Edith Sitwell) eseguito da
 l celebre tenore Ian Bostridge con l'Ensemble Roma Sinfonietta.\nVerranno 
 eseguiti i primi 21 numeri\,&nbsp\; seguendo l'edizione storica curata da 
 David Lloyd Jones.\n&nbsp\;\nFa&ccedil\;ade &ndash\; An Entertainment\nIAN
  BOSTRIDGE tenore ENSEMBLE ROMA SINFONIETTA FABIO MAESTRI&nbsp\;direttore 
 SOPHIE DANEMAN soprano\nMusiche di William Walton su testi di Edith Sitwel
 l https://waltontrust.org/en/archive-events/event/232-facade-a-roma
DTSTART;VALUE=DATE:20170422
LOCATION:Istituzione Universitaria dei Concerti (IUC) di Roma (Lungotevere 
 Flaminio\, 50\, 00196 Roma\, Italia)
SUMMARY:Façade a Roma
URL:https://waltontrust.org/en/archive-events/event/232-facade-a-roma
END:VEVENT
END:VCALENDAR
